BEGIN:VCALENDAR
VERSION:2.0
PRODID:-//Forsbrook CE Primary School - ECPv6.15.20//NONSGML v1.0//EN
CALSCALE:GREGORIAN
METHOD:PUBLISH
X-WR-CALNAME:Forsbrook CE Primary School
X-ORIGINAL-URL:https://forsbrookprimaryschool.co.uk
X-WR-CALDESC:Events for Forsbrook CE Primary School
REFRESH-INTERVAL;VALUE=DURATION:PT1H
X-Robots-Tag:noindex
X-PUBLISHED-TTL:PT1H
BEGIN:VTIMEZONE
TZID:Europe/London
BEGIN:DAYLIGHT
TZOFFSETFROM:+0000
TZOFFSETTO:+0100
TZNAME:BST
DTSTART:20240331T010000
END:DAYLIGHT
BEGIN:STANDARD
TZOFFSETFROM:+0100
TZOFFSETTO:+0000
TZNAME:GMT
DTSTART:20241027T010000
END:STANDARD
BEGIN:DAYLIGHT
TZOFFSETFROM:+0000
TZOFFSETTO:+0100
TZNAME:BST
DTSTART:20250330T010000
END:DAYLIGHT
BEGIN:STANDARD
TZOFFSETFROM:+0100
TZOFFSETTO:+0000
TZNAME:GMT
DTSTART:20251026T010000
END:STANDARD
BEGIN:DAYLIGHT
TZOFFSETFROM:+0000
TZOFFSETTO:+0100
TZNAME:BST
DTSTART:20260329T010000
END:DAYLIGHT
BEGIN:STANDARD
TZOFFSETFROM:+0100
TZOFFSETTO:+0000
TZNAME:GMT
DTSTART:20261025T010000
END:STANDARD
END:VTIMEZONE
BEGIN:VEVENT
DTSTART;TZID=Europe/London:20250901T083000
DTEND;TZID=Europe/London:20250901T151500
DTSTAMP:20260421T124239
CREATED:20250328T144409Z
LAST-MODIFIED:20250805T135244Z
UID:13802-1756715400-1756739700@forsbrookprimaryschool.co.uk
SUMMARY:Inset Day (School Closed)
DESCRIPTION:School closed
URL:https://forsbrookprimaryschool.co.uk/calendar/inset-day
LOCATION:Forsbrook Primary School\, Cheadle Road\, Blythe Bridge\, Staffordshire\, ST11 9PW\, United Kingdom
CATEGORIES:General Diary Event
END:VEVENT
BEGIN:VEVENT
DTSTART;TZID=Europe/London:20250902T083000
DTEND;TZID=Europe/London:20250902T151500
DTSTAMP:20260421T124239
CREATED:20250328T144423Z
LAST-MODIFIED:20250805T135308Z
UID:13804-1756801800-1756826100@forsbrookprimaryschool.co.uk
SUMMARY:Inset Day (School Closed)
DESCRIPTION:School closed
URL:https://forsbrookprimaryschool.co.uk/calendar/inset-day-2
LOCATION:Forsbrook Primary School\, Cheadle Road\, Blythe Bridge\, Staffordshire\, ST11 9PW\, United Kingdom
CATEGORIES:General Diary Event
END:VEVENT
BEGIN:VEVENT
DTSTART;TZID=Europe/London:20250903T083000
DTEND;TZID=Europe/London:20250903T083000
DTSTAMP:20260421T124239
CREATED:20250805T093712Z
LAST-MODIFIED:20250805T135326Z
UID:14607-1756888200-1756888200@forsbrookprimaryschool.co.uk
SUMMARY:School Opens
DESCRIPTION:
URL:https://forsbrookprimaryschool.co.uk/calendar/school-opens-12
LOCATION:Forsbrook Primary School\, Cheadle Road\, Blythe Bridge\, Staffordshire\, ST11 9PW\, United Kingdom
CATEGORIES:General Diary Event
END:VEVENT
BEGIN:VEVENT
DTSTART;TZID=Europe/London:20250904T093000
DTEND;TZID=Europe/London:20250904T150000
DTSTAMP:20260421T124239
CREATED:20250805T093749Z
LAST-MODIFIED:20250813T093643Z
UID:14609-1756978200-1756998000@forsbrookprimaryschool.co.uk
SUMMARY:Whole School Photos
DESCRIPTION:
URL:https://forsbrookprimaryschool.co.uk/calendar/whole-school-photos-2
LOCATION:Forsbrook Primary School\, Cheadle Road\, Blythe Bridge\, Staffordshire\, ST11 9PW\, United Kingdom
CATEGORIES:General Diary Event
END:VEVENT
BEGIN:VEVENT
DTSTART;TZID=Europe/London:20250905T151500
DTEND;TZID=Europe/London:20250905T151500
DTSTAMP:20260421T124239
CREATED:20250805T093829Z
LAST-MODIFIED:20250813T093629Z
UID:14611-1757085300-1757085300@forsbrookprimaryschool.co.uk
SUMMARY:Welcome Packs Sent Out
DESCRIPTION:
URL:https://forsbrookprimaryschool.co.uk/calendar/welcome-packs-sent-out-2
LOCATION:Forsbrook Primary School\, Cheadle Road\, Blythe Bridge\, Staffordshire\, ST11 9PW\, United Kingdom
CATEGORIES:General Diary Event
END:VEVENT
BEGIN:VEVENT
DTSTART;TZID=Europe/London:20250912T090000
DTEND;TZID=Europe/London:20250912T151500
DTSTAMP:20260421T124239
CREATED:20250805T094520Z
LAST-MODIFIED:20250905T141827Z
UID:14638-1757667600-1757690100@forsbrookprimaryschool.co.uk
SUMMARY:Learn to Ride Course for Selected Children
DESCRIPTION:
URL:https://forsbrookprimaryschool.co.uk/calendar/y4-bikeability
LOCATION:Forsbrook Primary School\, Cheadle Road\, Blythe Bridge\, Staffordshire\, ST11 9PW\, United Kingdom
CATEGORIES:General Diary Event
END:VEVENT
BEGIN:VEVENT
DTSTART;TZID=Europe/London:20250915T151500
DTEND;TZID=Europe/London:20250915T161500
DTSTAMP:20260421T124239
CREATED:20250805T094558Z
LAST-MODIFIED:20250813T093558Z
UID:14640-1757949300-1757952900@forsbrookprimaryschool.co.uk
SUMMARY:Clubs Start
DESCRIPTION:
URL:https://forsbrookprimaryschool.co.uk/calendar/clubs-start-2
LOCATION:Forsbrook Primary School\, Cheadle Road\, Blythe Bridge\, Staffordshire\, ST11 9PW\, United Kingdom
CATEGORIES:General Diary Event
END:VEVENT
BEGIN:VEVENT
DTSTART;TZID=Europe/London:20250923T133000
DTEND;TZID=Europe/London:20250923T143000
DTSTAMP:20260421T124239
CREATED:20250805T132531Z
LAST-MODIFIED:20250805T133042Z
UID:14721-1758634200-1758637800@forsbrookprimaryschool.co.uk
SUMMARY:Y1 Road Safety Training
DESCRIPTION:Road Safety Package delivered by Fire Crew (with appliance)
URL:https://forsbrookprimaryschool.co.uk/calendar/ks1-road-safety-package-delivered-by-fire-crew
LOCATION:Forsbrook Primary School\, Cheadle Road\, Blythe Bridge\, Staffordshire\, ST11 9PW\, United Kingdom
CATEGORIES:General Diary Event
END:VEVENT
BEGIN:VEVENT
DTSTART;TZID=Europe/London:20250925T133000
DTEND;TZID=Europe/London:20250925T143000
DTSTAMP:20260421T124239
CREATED:20250805T133126Z
LAST-MODIFIED:20250902T111610Z
UID:14728-1758807000-1758810600@forsbrookprimaryschool.co.uk
SUMMARY:Y2 Fire Safety Training
DESCRIPTION:Fire safety package delivered by Fire Crew (with appliance)
URL:https://forsbrookprimaryschool.co.uk/calendar/y2-fire-safety-training
LOCATION:Forsbrook Primary School\, Cheadle Road\, Blythe Bridge\, Staffordshire\, ST11 9PW\, United Kingdom
CATEGORIES:General Diary Event
END:VEVENT
BEGIN:VEVENT
DTSTART;TZID=Europe/London:20250926T093000
DTEND;TZID=Europe/London:20250926T120000
DTSTAMP:20260421T124239
CREATED:20250805T132733Z
LAST-MODIFIED:20250805T132733Z
UID:14723-1758879000-1758888000@forsbrookprimaryschool.co.uk
SUMMARY:Y4 First Aid Training
DESCRIPTION:
URL:https://forsbrookprimaryschool.co.uk/calendar/y4-first-aid-training
LOCATION:Forsbrook Primary School\, Cheadle Road\, Blythe Bridge\, Staffordshire\, ST11 9PW\, United Kingdom
CATEGORIES:General Diary Event
END:VEVENT
END:VCALENDAR