BEGIN:VCALENDAR
VERSION:2.0
PRODID:-//Forsbrook CE Primary School - ECPv6.15.20//NONSGML v1.0//EN
CALSCALE:GREGORIAN
METHOD:PUBLISH
X-ORIGINAL-URL:https://forsbrookprimaryschool.co.uk
X-WR-CALDESC:Events for Forsbrook CE Primary School
REFRESH-INTERVAL;VALUE=DURATION:PT1H
X-Robots-Tag:noindex
X-PUBLISHED-TTL:PT1H
BEGIN:VTIMEZONE
TZID:Europe/London
BEGIN:DAYLIGHT
TZOFFSETFROM:+0000
TZOFFSETTO:+0100
TZNAME:BST
DTSTART:20240331T010000
END:DAYLIGHT
BEGIN:STANDARD
TZOFFSETFROM:+0100
TZOFFSETTO:+0000
TZNAME:GMT
DTSTART:20241027T010000
END:STANDARD
BEGIN:DAYLIGHT
TZOFFSETFROM:+0000
TZOFFSETTO:+0100
TZNAME:BST
DTSTART:20250330T010000
END:DAYLIGHT
BEGIN:STANDARD
TZOFFSETFROM:+0100
TZOFFSETTO:+0000
TZNAME:GMT
DTSTART:20251026T010000
END:STANDARD
BEGIN:DAYLIGHT
TZOFFSETFROM:+0000
TZOFFSETTO:+0100
TZNAME:BST
DTSTART:20260329T010000
END:DAYLIGHT
BEGIN:STANDARD
TZOFFSETFROM:+0100
TZOFFSETTO:+0000
TZNAME:GMT
DTSTART:20261025T010000
END:STANDARD
END:VTIMEZONE
BEGIN:VEVENT
DTSTART;TZID=Europe/London:20251201T151500
DTEND;TZID=Europe/London:20251201T170000
DTSTAMP:20260422T101225
CREATED:20250805T124510Z
LAST-MODIFIED:20250805T134257Z
UID:14691-1764602100-1764608400@forsbrookprimaryschool.co.uk
SUMMARY:Christmas Markets
DESCRIPTION:
URL:https://forsbrookprimaryschool.co.uk/calendar/christmas-markets-2
LOCATION:Forsbrook Primary School\, Cheadle Road\, Blythe Bridge\, Staffordshire\, ST11 9PW\, United Kingdom
CATEGORIES:Parental Engagement
END:VEVENT
BEGIN:VEVENT
DTSTART;TZID=Europe/London:20251128T102000
DTEND;TZID=Europe/London:20251128T104500
DTSTAMP:20260422T101225
CREATED:20250805T124426Z
LAST-MODIFIED:20250805T133915Z
UID:14689-1764325200-1764326700@forsbrookprimaryschool.co.uk
SUMMARY:Christingle Service
DESCRIPTION:
URL:https://forsbrookprimaryschool.co.uk/calendar/christingle
LOCATION:Forsbrook Primary School\, Cheadle Road\, Blythe Bridge\, Staffordshire\, ST11 9PW\, United Kingdom
CATEGORIES:General Diary Event
END:VEVENT
BEGIN:VEVENT
DTSTART;TZID=Europe/London:20251121T090000
DTEND;TZID=Europe/London:20251121T094500
DTSTAMP:20260422T101225
CREATED:20250805T124349Z
LAST-MODIFIED:20251104T095554Z
UID:14687-1763715600-1763718300@forsbrookprimaryschool.co.uk
SUMMARY:Y4 Class Assembly
DESCRIPTION:
URL:https://forsbrookprimaryschool.co.uk/calendar/y4-class-assembly
LOCATION:Forsbrook Primary School\, Cheadle Road\, Blythe Bridge\, Staffordshire\, ST11 9PW\, United Kingdom
CATEGORIES:General Diary Event
END:VEVENT
BEGIN:VEVENT
DTSTART;TZID=Europe/London:20251117T090000
DTEND;TZID=Europe/London:20251117T120000
DTSTAMP:20260422T101225
CREATED:20250916T090843Z
LAST-MODIFIED:20250917T134425Z
UID:15174-1763370000-1763380800@forsbrookprimaryschool.co.uk
SUMMARY:NHS Heights & Weights for Reception and Y6
DESCRIPTION:  \nIf you do not wish for your child to have their height and weight measurements checked\, you must opt out using the form below. Paper copies are available from the school office should you require one. \n\n\n\n\n\n\n\nFile Type\n Subject\n Date Posted\n\n\n\n National Child Measurement Programme (NCMP) Opt Out Form\n September 17\, 2025\n\n\n\n  \nA PDF reader may be required in order to save and open documents listed on this page. \nClick here to download and install Adobe Acrobat Reader for free\, if needed.
URL:https://forsbrookprimaryschool.co.uk/calendar/nhs-heights-weights-for-reception-and-y6
LOCATION:Forsbrook Primary School\, Cheadle Road\, Blythe Bridge\, Staffordshire\, ST11 9PW\, United Kingdom
CATEGORIES:General Diary Event
END:VEVENT
BEGIN:VEVENT
DTSTART;TZID=Europe/London:20251114T084500
DTEND;TZID=Europe/London:20251114T151500
DTSTAMP:20260422T101225
CREATED:20251022T130121Z
LAST-MODIFIED:20251022T130121Z
UID:15314-1763109900-1763133300@forsbrookprimaryschool.co.uk
SUMMARY:Reception Class Nursery Rhyme Day
DESCRIPTION:We invite all children to come to school dressed as their favourite nursery rhyme character. \nPlease don’t feel pressured to buy a costume\, homemade costumes or simply wearing something colourful will be great. \nChildren do not need to bring their PE kit to school on this day\, they will stay in their outfit for the entire day. \nPlease ask Miss Adams if you have any questions.
URL:https://forsbrookprimaryschool.co.uk/calendar/reception-class-nursery-rhyme-day
LOCATION:Forsbrook Primary School\, Cheadle Road\, Blythe Bridge\, Staffordshire\, ST11 9PW\, United Kingdom
CATEGORIES:General Diary Event
END:VEVENT
BEGIN:VEVENT
DTSTART;TZID=Europe/London:20251113T090000
DTEND;TZID=Europe/London:20251113T213000
DTSTAMP:20260422T101225
CREATED:20250805T124325Z
LAST-MODIFIED:20250805T124325Z
UID:14685-1763024400-1763069400@forsbrookprimaryschool.co.uk
SUMMARY:Y3 Class Assembly
DESCRIPTION:
URL:https://forsbrookprimaryschool.co.uk/calendar/y3-class-assembly
LOCATION:Forsbrook Primary School\, Cheadle Road\, Blythe Bridge\, Staffordshire\, ST11 9PW\, United Kingdom
CATEGORIES:General Diary Event
END:VEVENT
BEGIN:VEVENT
DTSTART;TZID=Europe/London:20251111T102500
DTEND;TZID=Europe/London:20251111T104500
DTSTAMP:20260422T101225
CREATED:20250805T101446Z
LAST-MODIFIED:20250919T134901Z
UID:14682-1762856700-1762857900@forsbrookprimaryschool.co.uk
SUMMARY:Remembrance Day Assembly
DESCRIPTION:
URL:https://forsbrookprimaryschool.co.uk/calendar/remembrance-day
LOCATION:Forsbrook Primary School\, Cheadle Road\, Blythe Bridge\, Staffordshire\, ST11 9PW\, United Kingdom
CATEGORIES:General Diary Event
ATTACH;FMTTYPE=image/jpeg:https://forsbrookprimaryschool.co.uk/wp-content/uploads/2025/08/remembrance_day_Blog_Image_1200x630.jpg
END:VEVENT
BEGIN:VEVENT
DTSTART;TZID=Europe/London:20251109T103000
DTEND;TZID=Europe/London:20251109T120000
DTSTAMP:20260422T101225
CREATED:20250919T134604Z
LAST-MODIFIED:20251021T095118Z
UID:15204-1762684200-1762689600@forsbrookprimaryschool.co.uk
SUMMARY:Remembrance Day Parade and Church Service
DESCRIPTION:REMEMBRANCE PARADE AND SERVICE\nPARISH CHURCH OF ST. PETER’S\, BLYTHE BRIDGE.  \nSunday 9th November 2025 \nThe Annual Ecumenical Remembrance Day Parade and Church Service will take place on Sunday 9 November 2025. \nThe parade will assemble at Blythe Bridge and Forsbrook Village Hall\, Uttoxeter Road\, Blythe Bridge at 10.30am. \nAt 10.35am the parade will march to the War Memorial where the Act of Remembrance will begin by the laying of wreaths followed at 11.00am by the 2 minutes silence. The service will be held in the Parish Church of St. Peter’s.
URL:https://forsbrookprimaryschool.co.uk/calendar/remembrance-day-parade-and-church-service
LOCATION:St. Peter’s Church\, Blythe Bridge\, Stoke-on-Trent\, ST11 9PW\, United Kingdom
CATEGORIES:General Diary Event
ATTACH;FMTTYPE=image/jpeg:https://forsbrookprimaryschool.co.uk/wp-content/uploads/2025/09/In-remembrance-min.jpg
END:VEVENT
BEGIN:VEVENT
DTSTART;TZID=Europe/London:20251103T170000
DTEND;TZID=Europe/London:20251103T200000
DTSTAMP:20260422T101225
CREATED:20250805T101404Z
LAST-MODIFIED:20250925T093401Z
UID:14679-1762189200-1762200000@forsbrookprimaryschool.co.uk
SUMMARY:Fireworks Spectacular!
DESCRIPTION:
URL:https://forsbrookprimaryschool.co.uk/calendar/fireworks-spectacular-2
LOCATION:Blythe Bridge High School\, Cheadle Road\, Blythe Bridge\, Stoke-on-Trent\, Staffordshire\, ST11 9PW\, United Kingdom
CATEGORIES:PTFA/Fundraising
END:VEVENT
BEGIN:VEVENT
DTSTART;TZID=Europe/London:20251103T083000
DTEND;TZID=Europe/London:20251103T083000
DTSTAMP:20260422T101225
CREATED:20250328T144634Z
LAST-MODIFIED:20250805T135145Z
UID:13810-1762158600-1762158600@forsbrookprimaryschool.co.uk
SUMMARY:School Opens
DESCRIPTION:
URL:https://forsbrookprimaryschool.co.uk/calendar/school-opens-7
LOCATION:Forsbrook Primary School\, Cheadle Road\, Blythe Bridge\, Staffordshire\, ST11 9PW\, United Kingdom
CATEGORIES:General Diary Event
END:VEVENT
BEGIN:VEVENT
DTSTART;VALUE=DATE:20251031
DTEND;VALUE=DATE:20251101
DTSTAMP:20260422T101225
CREATED:20250805T133559Z
LAST-MODIFIED:20250805T133559Z
UID:14732-1761868800-1761955199@forsbrookprimaryschool.co.uk
SUMMARY:Deadline for Y6 High School Applications
DESCRIPTION:
URL:https://forsbrookprimaryschool.co.uk/calendar/deadline-for-y6-high-school-applications
LOCATION:Staffordshire
CATEGORIES:Parental Engagement
END:VEVENT
BEGIN:VEVENT
DTSTART;VALUE=DATE:20251027
DTEND;VALUE=DATE:20251101
DTSTAMP:20260422T101225
CREATED:20250328T144722Z
LAST-MODIFIED:20250328T144722Z
UID:13808-1761523200-1761955199@forsbrookprimaryschool.co.uk
SUMMARY:Half Term Holiday
DESCRIPTION:School closed
URL:https://forsbrookprimaryschool.co.uk/calendar/half-term-holiday-2
LOCATION:Forsbrook Primary School\, Cheadle Road\, Blythe Bridge\, Staffordshire\, ST11 9PW\, United Kingdom
CATEGORIES:Holiday
END:VEVENT
BEGIN:VEVENT
DTSTART;TZID=Europe/London:20251024T151500
DTEND;TZID=Europe/London:20251024T151500
DTSTAMP:20260422T101225
CREATED:20250328T144506Z
LAST-MODIFIED:20250805T135052Z
UID:13806-1761318900-1761318900@forsbrookprimaryschool.co.uk
SUMMARY:School Closes for Half Term Break
DESCRIPTION:
URL:https://forsbrookprimaryschool.co.uk/calendar/half-term-holiday
LOCATION:Forsbrook Primary School\, Cheadle Road\, Blythe Bridge\, Staffordshire\, ST11 9PW\, United Kingdom
CATEGORIES:Holiday
END:VEVENT
BEGIN:VEVENT
DTSTART;TZID=Europe/London:20251024T090000
DTEND;TZID=Europe/London:20251024T100000
DTSTAMP:20260422T101225
CREATED:20250805T100937Z
LAST-MODIFIED:20250901T150913Z
UID:14672-1761296400-1761300000@forsbrookprimaryschool.co.uk
SUMMARY:Y6 Class Assembly & SATs Workshop
DESCRIPTION:
URL:https://forsbrookprimaryschool.co.uk/calendar/y6-class-assembly
LOCATION:Forsbrook Primary School\, Cheadle Road\, Blythe Bridge\, Staffordshire\, ST11 9PW\, United Kingdom
CATEGORIES:General Diary Event
END:VEVENT
BEGIN:VEVENT
DTSTART;TZID=Europe/London:20251022T090000
DTEND;TZID=Europe/London:20251022T163000
DTSTAMP:20260422T101225
CREATED:20250917T135857Z
LAST-MODIFIED:20250925T140841Z
UID:15201-1761123600-1761150600@forsbrookprimaryschool.co.uk
SUMMARY:Y3 Trip to Twycross Zoo
DESCRIPTION:
URL:https://forsbrookprimaryschool.co.uk/calendar/y3-trip-to-twycross-zoo
LOCATION:Twycross Zoo\, Burton Road\, Atherstone\, CV9 3PX\, United Kingdom
CATEGORIES:School Trip/Residential
END:VEVENT
BEGIN:VEVENT
DTSTART;TZID=Europe/London:20251021T102000
DTEND;TZID=Europe/London:20251021T104500
DTSTAMP:20260422T101225
CREATED:20250805T100904Z
LAST-MODIFIED:20250805T133457Z
UID:14670-1761042000-1761043500@forsbrookprimaryschool.co.uk
SUMMARY:Diwali Assembly
DESCRIPTION:
URL:https://forsbrookprimaryschool.co.uk/calendar/diwali-assembly
LOCATION:Forsbrook Primary School\, Cheadle Road\, Blythe Bridge\, Staffordshire\, ST11 9PW\, United Kingdom
CATEGORIES:General Diary Event
END:VEVENT
BEGIN:VEVENT
DTSTART;TZID=Europe/London:20251016T093000
DTEND;TZID=Europe/London:20251016T103000
DTSTAMP:20260422T101225
CREATED:20250805T100821Z
LAST-MODIFIED:20250912T140402Z
UID:14668-1760607000-1760610600@forsbrookprimaryschool.co.uk
SUMMARY:Open Morning for Reception & Nursery (New Intake)
DESCRIPTION:
URL:https://forsbrookprimaryschool.co.uk/calendar/open-morning-for-reception-nursery-new-intake
LOCATION:Forsbrook Primary School\, Cheadle Road\, Blythe Bridge\, Staffordshire\, ST11 9PW\, United Kingdom
CATEGORIES:Parental Engagement
END:VEVENT
BEGIN:VEVENT
DTSTART;TZID=Europe/London:20251013T151500
DTEND;TZID=Europe/London:20251013T190000
DTSTAMP:20260422T101225
CREATED:20250805T100720Z
LAST-MODIFIED:20251003T140928Z
UID:14666-1760368500-1760382000@forsbrookprimaryschool.co.uk
SUMMARY:Parents Evening
DESCRIPTION: 
URL:https://forsbrookprimaryschool.co.uk/calendar/parents-evening-2
LOCATION:Forsbrook Primary School\, Cheadle Road\, Blythe Bridge\, Staffordshire\, ST11 9PW\, United Kingdom
CATEGORIES:Parental Engagement
END:VEVENT
BEGIN:VEVENT
DTSTART;TZID=Europe/London:20251010T090000
DTEND;TZID=Europe/London:20251010T151500
DTSTAMP:20260422T101225
CREATED:20250919T135530Z
LAST-MODIFIED:20250919T135646Z
UID:15212-1760086800-1760109300@forsbrookprimaryschool.co.uk
SUMMARY:Y4 Trip to the Wolseley Centre
DESCRIPTION:
URL:https://forsbrookprimaryschool.co.uk/calendar/y4-trip-to-the-wolseley-centre
LOCATION:Wolseley Centre\, Wolseley Bridge\, Stafford\, ST17 0WT\, United Kingdom
CATEGORIES:School Trip/Residential
ATTACH;FMTTYPE=image/jpeg:https://forsbrookprimaryschool.co.uk/wp-content/uploads/2025/09/5d19e586d11dc_Wolseley20Visitor20Centre20520-20Susan20Freeman-aspect-ratio-1152-480.jpg
END:VEVENT
BEGIN:VEVENT
DTSTART;VALUE=DATE:20251010
DTEND;VALUE=DATE:20251011
DTSTAMP:20260422T101225
CREATED:20250805T100621Z
LAST-MODIFIED:20250805T100621Z
UID:14664-1760054400-1760140799@forsbrookprimaryschool.co.uk
SUMMARY:World Mental Health Day
DESCRIPTION:
URL:https://forsbrookprimaryschool.co.uk/calendar/world-mental-health-day
LOCATION:Forsbrook Primary School\, Cheadle Road\, Blythe Bridge\, Staffordshire\, ST11 9PW\, United Kingdom
CATEGORIES:General Diary Event
END:VEVENT
BEGIN:VEVENT
DTSTART;TZID=Europe/London:20251009T153000
DTEND;TZID=Europe/London:20251009T170000
DTSTAMP:20260422T101225
CREATED:20250805T100554Z
LAST-MODIFIED:20250805T100554Z
UID:14662-1760023800-1760029200@forsbrookprimaryschool.co.uk
SUMMARY:Y5 & Y6 Football
DESCRIPTION:
URL:https://forsbrookprimaryschool.co.uk/calendar/y5-y6-football-2
LOCATION:Forsbrook Primary School\, Cheadle Road\, Blythe Bridge\, Staffordshire\, ST11 9PW\, United Kingdom
CATEGORIES:Sporting Event
END:VEVENT
BEGIN:VEVENT
DTSTART;TZID=Europe/London:20251009T102000
DTEND;TZID=Europe/London:20251009T104500
DTSTAMP:20260422T101225
CREATED:20250805T100523Z
LAST-MODIFIED:20250805T133417Z
UID:14660-1760005200-1760006700@forsbrookprimaryschool.co.uk
SUMMARY:Harvest Festival
DESCRIPTION:
URL:https://forsbrookprimaryschool.co.uk/calendar/harvest-festival
LOCATION:Blythe Bridge High School\, Cheadle Road\, Blythe Bridge\, Stoke-on-Trent\, Staffordshire\, ST11 9PW\, United Kingdom
CATEGORIES:General Diary Event
END:VEVENT
BEGIN:VEVENT
DTSTART;TZID=Europe/London:20251007T154500
DTEND;TZID=Europe/London:20251007T180000
DTSTAMP:20260422T101225
CREATED:20250805T100259Z
LAST-MODIFIED:20251006T093653Z
UID:14658-1759851900-1759860000@forsbrookprimaryschool.co.uk
SUMMARY:Cluster Music Event at BBHS
DESCRIPTION:Dear Parents/Carers\, \nWe invite your child to join us in our Cluster Schools Music Concert being held at Blythe Bridge High School\, Cheadle Road\, Blythe Bridge\, ST11 9PW on Tuesday 7th October 2025. Children will perform music as part of a massed ensemble. \nChildren will walk down to the high school with myself at 3.45pm. Children will need to wear their school uniform and bring their instrument with them. If they are wearing their PE kit during the day\, they will have time to change into their uniform before the concert\, so therefore they will need to bring their uniform to school with them in a named bag. They will also require a drink and a snack. If your child has asthma\, their school inhaler will be taken with them to the event. \nThey will rehearse the pieces together from 4pm – 5.15pm (with a break in the middle). \nThe concert will start at 5.30pm and aim to finish by 6pm. The concert is free of charge. Parking will be available on the Blythe Bridge High School car park and high school students will be at the main reception to take families to the concert location. \nIf your child would like to attend and is able to\, please can you return the reply slip with the relevant information filled in. \nKind regards\,\nMiss Adams – Music Lead \nPlease click on the following to download and fill out the reply slip: \n\n\n\nFile Type\n  Subject\n\n\n\n  Cluster Concert Reply Form – October 2025\n\n\n\n 
URL:https://forsbrookprimaryschool.co.uk/calendar/cluster-music-event-at-bbhs
LOCATION:Blythe Bridge High School\, Cheadle Road\, Blythe Bridge\, Stoke-on-Trent\, Staffordshire\, ST11 9PW\, United Kingdom
CATEGORIES:General Diary Event
END:VEVENT
BEGIN:VEVENT
DTSTART;TZID=Europe/London:20251006T090000
DTEND;TZID=Europe/London:20251006T151500
DTSTAMP:20260422T101225
CREATED:20250910T142509Z
LAST-MODIFIED:20250910T142509Z
UID:15156-1759741200-1759763700@forsbrookprimaryschool.co.uk
SUMMARY:Bikability Levels 1 & 2 Combined for Y5
DESCRIPTION:
URL:https://forsbrookprimaryschool.co.uk/calendar/bikability-levels-1-2-combined-for-y5
LOCATION:Forsbrook Primary School\, Cheadle Road\, Blythe Bridge\, Staffordshire\, ST11 9PW\, United Kingdom
CATEGORIES:General Diary Event
END:VEVENT
BEGIN:VEVENT
DTSTART;TZID=Europe/London:20251003T130000
DTEND;TZID=Europe/London:20251003T150000
DTSTAMP:20260422T101225
CREATED:20250805T095239Z
LAST-MODIFIED:20250805T132822Z
UID:14652-1759496400-1759503600@forsbrookprimaryschool.co.uk
SUMMARY:Y5 & Y6 Rugby Festival at BBHS
DESCRIPTION:
URL:https://forsbrookprimaryschool.co.uk/calendar/y5-y6-rugby-festival-at-bbhs
LOCATION:Blythe Bridge High School\, Cheadle Road\, Blythe Bridge\, Stoke-on-Trent\, Staffordshire\, ST11 9PW\, United Kingdom
CATEGORIES:Sporting Event
END:VEVENT
BEGIN:VEVENT
DTSTART;TZID=Europe/London:20251001T090000
DTEND;TZID=Europe/London:20251001T151500
DTSTAMP:20260422T101225
CREATED:20250925T090822Z
LAST-MODIFIED:20250925T090822Z
UID:15223-1759309200-1759331700@forsbrookprimaryschool.co.uk
SUMMARY:Crazy Hair Day
DESCRIPTION:
URL:https://forsbrookprimaryschool.co.uk/calendar/crazy-hair-day
LOCATION:Forsbrook Primary School\, Cheadle Road\, Blythe Bridge\, Staffordshire\, ST11 9PW\, United Kingdom
CATEGORIES:General Diary Event
END:VEVENT
BEGIN:VEVENT
DTSTART;TZID=Europe/London:20251001T090000
DTEND;TZID=Europe/London:20251001T093000
DTSTAMP:20260422T101225
CREATED:20250805T133219Z
LAST-MODIFIED:20250805T133219Z
UID:14730-1759309200-1759311000@forsbrookprimaryschool.co.uk
SUMMARY:Y4 Restart a Heart (Online Training)
DESCRIPTION:Fire safety package delivered by Fire Crew (with appliance)
URL:https://forsbrookprimaryschool.co.uk/calendar/y4-restart-a-heart-online-training
LOCATION:Forsbrook Primary School\, Cheadle Road\, Blythe Bridge\, Staffordshire\, ST11 9PW\, United Kingdom
CATEGORIES:General Diary Event
END:VEVENT
BEGIN:VEVENT
DTSTART;TZID=Europe/London:20250926T130000
DTEND;TZID=Europe/London:20250926T150000
DTSTAMP:20260422T101225
CREATED:20250805T095150Z
LAST-MODIFIED:20250805T132611Z
UID:14650-1758891600-1758898800@forsbrookprimaryschool.co.uk
SUMMARY:Y3 & Y4 Rugby Festival at BBHS
DESCRIPTION:
URL:https://forsbrookprimaryschool.co.uk/calendar/y3-y4-rugby-festival-at-bbhs
LOCATION:Blythe Bridge High School\, Cheadle Road\, Blythe Bridge\, Stoke-on-Trent\, Staffordshire\, ST11 9PW\, United Kingdom
CATEGORIES:Sporting Event
END:VEVENT
BEGIN:VEVENT
DTSTART;TZID=Europe/London:20250926T093000
DTEND;TZID=Europe/London:20250926T120000
DTSTAMP:20260422T101225
CREATED:20250805T132733Z
LAST-MODIFIED:20250805T132733Z
UID:14723-1758879000-1758888000@forsbrookprimaryschool.co.uk
SUMMARY:Y4 First Aid Training
DESCRIPTION:
URL:https://forsbrookprimaryschool.co.uk/calendar/y4-first-aid-training
LOCATION:Forsbrook Primary School\, Cheadle Road\, Blythe Bridge\, Staffordshire\, ST11 9PW\, United Kingdom
CATEGORIES:General Diary Event
END:VEVENT
BEGIN:VEVENT
DTSTART;TZID=Europe/London:20250925T133000
DTEND;TZID=Europe/London:20250925T143000
DTSTAMP:20260422T101225
CREATED:20250805T133126Z
LAST-MODIFIED:20250902T111610Z
UID:14728-1758807000-1758810600@forsbrookprimaryschool.co.uk
SUMMARY:Y2 Fire Safety Training
DESCRIPTION:Fire safety package delivered by Fire Crew (with appliance)
URL:https://forsbrookprimaryschool.co.uk/calendar/y2-fire-safety-training
LOCATION:Forsbrook Primary School\, Cheadle Road\, Blythe Bridge\, Staffordshire\, ST11 9PW\, United Kingdom
CATEGORIES:General Diary Event
END:VEVENT
END:VCALENDAR